BEGIN:VCALENDAR
VERSION:2.0
PRODID:-//Kultur- &amp; Sportgemeinschaft 1945 Georgenhausen e. V. - ECPv6.15.20//NONSGML v1.0//EN
CALSCALE:GREGORIAN
METHOD:PUBLISH
X-WR-CALNAME:Kultur- &amp; Sportgemeinschaft 1945 Georgenhausen e. V.
X-ORIGINAL-URL:https://www.ksg-georgenhausen.de
X-WR-CALDESC:Veranstaltungen für Kultur- &amp; Sportgemeinschaft 1945 Georgenhausen e. V.
REFRESH-INTERVAL;VALUE=DURATION:PT1H
X-Robots-Tag:noindex
X-PUBLISHED-TTL:PT1H
BEGIN:VTIMEZONE
TZID:Europe/Berlin
BEGIN:DAYLIGHT
TZOFFSETFROM:+0100
TZOFFSETTO:+0200
TZNAME:CEST
DTSTART:20250330T010000
END:DAYLIGHT
BEGIN:STANDARD
TZOFFSETFROM:+0200
TZOFFSETTO:+0100
TZNAME:CET
DTSTART:20251026T010000
END:STANDARD
BEGIN:DAYLIGHT
TZOFFSETFROM:+0100
TZOFFSETTO:+0200
TZNAME:CEST
DTSTART:20260329T010000
END:DAYLIGHT
BEGIN:STANDARD
TZOFFSETFROM:+0200
TZOFFSETTO:+0100
TZNAME:CET
DTSTART:20261025T010000
END:STANDARD
BEGIN:DAYLIGHT
TZOFFSETFROM:+0100
TZOFFSETTO:+0200
TZNAME:CEST
DTSTART:20270328T010000
END:DAYLIGHT
BEGIN:STANDARD
TZOFFSETFROM:+0200
TZOFFSETTO:+0100
TZNAME:CET
DTSTART:20271031T010000
END:STANDARD
END:VTIMEZONE
BEGIN:VEVENT
DTSTART;TZID=Europe/Berlin:20260430T190000
DTEND;TZID=Europe/Berlin:20260430T230000
DTSTAMP:20260420T170919
CREATED:20260420T104952Z
LAST-MODIFIED:20260420T104952Z
UID:8257-1777575600-1777590000@www.ksg-georgenhausen.de
SUMMARY:Tanz in den Mai!
DESCRIPTION:Wir tanzen den Winter weg! 🌸💃 \nEs ist wieder Zeit für unser gemütliches „Tanz in den Mai Eventchen“ am Sportheim! Die Mädels von Step by Step laden euch herzlich ein\, gemeinsam mit uns in den Mai zu starten. \nEgal ob ihr das Tanzbein schwingen wollt oder lieber mit einem Kaltgetränk in der Hand fachsimpelt – bei uns steht das Miteinander im Vordergrund! 😊 Wir stoßen gemeinsam an und feiern den Einzug des Frühlings. \nDas erwartet euch:\n• 🌭 Für den Hunger: Hot Dogs und Brezeln\n• 🍻 Für den Durst: Kühle Getränke & die passende Maibowle\n• 🎶 Für die Ohren: Beste Musik zum Mitwippen (und wer mag: Tanzen ist natürlich erlaubt!)\n• ✨ Für die Seele: Nette Leute und eine entspannte Zeit am Sportheim \nWann? 30. April\, ab 19 Uhr\nWo? Sportheim KSG Georgenhausen \nKommt vorbei\, bringt eure Freunde\, Nachbarn und gute Laune mit. Wir freuen uns darauf\, mit euch anzustoßen und einen richtig schönen Abend zu verbringen! 🥂🕺 \nEure Tanzgruppe Step by Step 👣
URL:https://www.ksg-georgenhausen.de/event/tanz-in-den-mai/
LOCATION:KSG Georgenhausen e.V.\, Zum Stetteritz 13a\, Reinheim\, 64354
ATTACH;FMTTYPE=image/jpeg:https://www.ksg-georgenhausen.de/wp-content/uploads/2026/04/Eventchen-30.04.2026-Tanz-in-den-Mai.jpeg
END:VEVENT
END:VCALENDAR